BEGIN:VCALENDAR
VERSION:2.0
PRODID:-//81.169.145.68//NONSGML kigkonsult.se iCalcreator 2.20//
CALSCALE:GREGORIAN
METHOD:PUBLISH
X-WR-TIMEZONE:UTC
BEGIN:VEVENT
UID:event387@Rheinische-Provence
DTSTAMP:20260425T002632Z
CATEGORIES:Konzerte
DESCRIPTION:Lieder ohne Worte\nKategorie: Konzerte\nICS-Link: https://gelbe
 -villa.net/index.php?option=com_jem&view=event&id=387:lieder-ohne-worte\n
DTSTART:20190907T200000Z
DTEND:20190907T200000Z
LOCATION:Gelbe Villa\,Nussallee 27\,50354 Hürth
SUMMARY:Lieder ohne Worte
URL:https://gelbe-villa.net/index.php?option=com_jem&view=event&id=387:lied
 er-ohne-worte
END:VEVENT
END:VCALENDAR