BEGIN:VCALENDAR
VERSION:2.0
PRODID:-//81.169.145.68//NONSGML kigkonsult.se iCalcreator 2.20//
CALSCALE:GREGORIAN
METHOD:PUBLISH
X-WR-TIMEZONE:UTC
BEGIN:VEVENT
UID:event350@Rheinische-Provence
DTSTAMP:20260420T100443Z
CATEGORIES:Konzerte
DESCRIPTION:Kammermusikabend für Violoncello und Klavier\nKategorie: Konzer
 te\nICS-Link: https://gelbe-villa.net/index.php?option=com_jem&view=event&
 id=350:kammermusikabend-fuer-violoncello-und-klavier\n
DTSTART:20170923T200000Z
DTEND:20170923T200000Z
LOCATION:Gelbe Villa\,Nussallee 27\,50354 Hürth
SUMMARY:Kammermusikabend für Violoncello und Klavier
URL:https://gelbe-villa.net/index.php?option=com_jem&view=event&id=350:kamm
 ermusikabend-fuer-violoncello-und-klavier
END:VEVENT
END:VCALENDAR